BEGIN:VCALENDAR
VERSION:2.0
PRODID:-//eventon.com NONSGML v1.0//EN
CALSCALE:GREGORIAN
METHOD:PUBLISH
BEGIN:VEVENT
UID:69e7db2985c28
DTSTAMP:20260421T201641Z
DTSTART:20261207T173000Z
DTEND:20261207T210000Z
LOCATION:LOKation | Paul-Ehrlich-Straße 13 | 79106 Freiburg
SUMMARY:Dezember 2026 | Jahresabschluss | Interne Netzwerkrunde
DESCRIPTION:Details zu dieser Veranstaltung werden hier rechtzeitig bekannt
  gegeben&#8230;\nhttps://tafelrunde-freiburg.de/Veranstaltungen/dezember-20
 26-jahresabschluss/
URL:https://tafelrunde-freiburg.de/Veranstaltungen/dezember-2026-jahresabschluss/
END:VEVENT
END:VCALENDAR