BEGIN:VCALENDAR
VERSION:2.0
PRODID:-//eventon.com NONSGML v1.0//EN
CALSCALE:GREGORIAN
METHOD:PUBLISH
BEGIN:VEVENT
UID:69e5de1108690
DTSTAMP:20260420T080433Z
DTSTART:20260119T173000Z
DTEND:20260119T213000Z
LOCATION:Leo&#039;s Wine Bar | Leopoldring 1\,  7998 Freiburg
SUMMARY:Januar 2026 | Filipos Klein | ACHTUNG: Geänderter Termin!
DESCRIPTION:Veranstaltungsdetails Liebe Mitglieder der tafelrunde\,  die e
 rste Veranstaltung im neuen Jahr 2026 findet bei Filipos Klein\,  bekannt u
 nter seinem Kürzel Fili\,  einem tafelrunde Mitglied und Inhaber mehrerer 
 gastronomischer Betriebe in Freiburg statt. Das  Thema: Die gastronomische
  Vielfalt der Betriebe von Fili. Wie konnte er\,  innerhalb weniger Jahre\,
   zu einem  DER Freiburger[..]\nhttps://tafelrunde-freiburg.de/Veranstaltu
 ngen/januar-2026-thema-noch-unbekannt/
URL:https://tafelrunde-freiburg.de/Veranstaltungen/januar-2026-thema-noch-unbekannt/
END:VEVENT
END:VCALENDAR