BEGIN:VCALENDAR
VERSION:2.0
PRODID:-//eventon.com NONSGML v1.0//EN
CALSCALE:GREGORIAN
METHOD:PUBLISH
BEGIN:VEVENT
UID:69ed470716067
DTSTAMP:20260425T225815Z
DTSTART:20251013T163000Z
DTEND:20251013T203000Z
LOCATION:Am Elzdamm 6\,  79312 Emmendingen !!! Über den Mediamarkt Parkplatz anfahren !!!
SUMMARY:Oktober 2025 | Marco Fiore - Queens Kunstgalerie
DESCRIPTION:Veranstaltungsdetails Liebe Mitglieder der tafelrunde\,  die O
 ktober 2025 Veranstaltung findet bei Marco Fiore\,  einem tafelrunde Mit
 glied und Sales Director\,  der Queens Kunstgalerien in Emmendingen\,  sta
 tt. Das wunderbare Thema: Kunst. Ein oft unterschätzter Wirtschaftszweig. 
 Nicht nur was fürs Auge und die Seele.   Marco wird uns in die Welt der 
 modernen Kunst entführen. In der Queens Kunstgalerie[..]\nhttps://tafelrun
 de-freiburg.de/Veranstaltungen/oktober-2025-marco-fiore-queens-kunstgalerie
 /
URL:https://tafelrunde-freiburg.de/Veranstaltungen/oktober-2025-marco-fiore-queens-kunstgalerie/
END:VEVENT
END:VCALENDAR