BEGIN:VCALENDAR
VERSION:2.0
PRODID:-//eventon.com NONSGML v1.0//EN
CALSCALE:GREGORIAN
METHOD:PUBLISH
BEGIN:VEVENT
UID:69ed46c9d7a5b
DTSTAMP:20260425T225713Z
DTSTART:20250915T163000Z
DTEND:20250915T203000Z
LOCATION:Leinenweberstraße 1\,  79108 Freiburg
SUMMARY:September 2025 | Bechtle IT Systemhaus - Udo Stiefvater
DESCRIPTION:Liebe Mitglieder der tafelrunde\,  die September 2025 Veranstal
 tung findet bei Udo Stiefvater\,  einem tafelrunde Mitglied und Geschäfts
 führer der Bechtle GmbH in Freiburg\,  statt. Das hochaktuelle und sehr b
 risante Thema lautet: Cybersecurity: Eine guided Tour ins Darknet.   Udo 
 wird uns uns ins Darknet entführen. Dorthin\,  wo die &#8222;bösen Buben&
 #8220; ihr Cyber Unwesen treiben[..]\nhttps://tafelrunde-freiburg.de/Verans
 taltungen/september-2025-das-thema-wird-noch-veroeffentlicht/
URL:https://tafelrunde-freiburg.de/Veranstaltungen/september-2025-das-thema-wird-noch-veroeffentlicht/
END:VEVENT
END:VCALENDAR