BEGIN:VCALENDAR
VERSION:2.0
PRODID:-//eventon.com NONSGML v1.0//EN
CALSCALE:GREGORIAN
METHOD:PUBLISH
BEGIN:VEVENT
UID:69ed46956d93e
DTSTAMP:20260425T225621Z
DTSTART:20250811T163000Z
DTEND:20250811T203000Z
LOCATION:Der Veranstaltungsort wird noch veröffentlicht Europa-Park-Straße 2
SUMMARY:August 2025 | Sergej Gricenko - Appetie Feinkost & Delikatessen
DESCRIPTION:Liebe Mitglieder der tafelrunde\,  die August 2025 Veranstaltun
 g findet bei Sergej Gricenko\,  einem tafelrunde Mitglied\,  statt. Er prä
 sentiert sein Unternehmen Appetié &#8211; Feines kosten in Freiburg. Das 
 Thema lautet: Antipasti\,  Feinkost &amp; Delikatessen. Mediterrane Leckere
 ien. Im Überblick Termin: Montag\,  11.August 2025\,  18:30 Uhr. Ort: Am D
 orfbach 7\,  79111 Freiburg Kulinarik: Sergej[..]\nhttps://tafelrunde-freib
 urg.de/Veranstaltungen/august-2025-das-thema-wird-noch-veroeffentlicht/
URL:https://tafelrunde-freiburg.de/Veranstaltungen/august-2025-das-thema-wird-noch-veroeffentlicht/
END:VEVENT
END:VCALENDAR