BEGIN:VCALENDAR
VERSION:2.0
PRODID:-//eventon.com NONSGML v1.0//EN
CALSCALE:GREGORIAN
METHOD:PUBLISH
BEGIN:VEVENT
UID:69ed4653d6b29
DTSTAMP:20260425T225515Z
DTSTART:20250602T163000Z
DTEND:20250602T203000Z
LOCATION:&quot;DER SCHWARZWÄLDER&quot; | Metzgerei Reichenbach | In den Engematten 9\,  79286 Glottertal
SUMMARY:Juni 2025 | Der Schwarzwälder - Grillen mit dem Grill-Weltmeister
DESCRIPTION:Liebe Mitglieder der tafelrunde\,  die Juni 2025 Veranstaltung 
 findet bei einem tafelrunde Mitglied statt. Bei Uli Reichenbach im Glottert
 al. Aber nicht bei seinem Unternehmen Metzgerei Reichenbach\,  sondern bei 
 einem seiner weiteren Unternehmen\,  Der Schwarzwälder. Das Thema lautet: 
 Grillen wie und mit dem Weltmeister Was es mit der Marke Der Schwarzwälder
 [..]\nhttps://tafelrunde-freiburg.de/Veranstaltungen/juni-2025-das-thema-wi
 rd-noch-veroeffentlicht/
URL:https://tafelrunde-freiburg.de/Veranstaltungen/juni-2025-das-thema-wird-noch-veroeffentlicht/
END:VEVENT
END:VCALENDAR