BEGIN:VCALENDAR
VERSION:2.0
PRODID:-//eventon.com NONSGML v1.0//EN
CALSCALE:GREGORIAN
METHOD:PUBLISH
BEGIN:VEVENT
UID:69ed46e83af35
DTSTAMP:20260425T225744Z
DTSTART:20250505T133000Z
DTEND:20250505T153000Z
LOCATION:Freiburger Münster. Treffpunkt: Baustellenaufzug auf der Nordseite beim Chor. Beim grünen Verschlag.
SUMMARY:Mai 2025 | Führung durch das Freiburger Münster
DESCRIPTION:WICHTIGE VORAB INFOS: Es können nur tafelrunde Mitglieder teil
 nehmen. KEINE Gäste. Die Mitgliederzahl ist auf 20 Personen beschränkt. J
 e Teilnehmer sind 60 Euro Spende (in bar mitbringen) an die Münsterbauhüt
 te zu entrichten. Beginn ist 15:30 Uhr!!! Liebe Mitglieder der tafelrunde\,
   die Mai 2025 Veranstaltung findet im Rahmen einer Besichtigung des[..]\nh
 ttps://tafelrunde-freiburg.de/Veranstaltungen/mai-2025-dr-anne-christine-br
 ehm/
URL:https://tafelrunde-freiburg.de/Veranstaltungen/mai-2025-dr-anne-christine-brehm/
END:VEVENT
END:VCALENDAR