BEGIN:VCALENDAR
VERSION:2.0
PRODID:-//eventon.com NONSGML v1.0//EN
CALSCALE:GREGORIAN
METHOD:PUBLISH
BEGIN:VEVENT
UID:69ed4590e91fd
DTSTAMP:20260425T225200Z
DTSTART:20250310T173000Z
DTEND:20250310T213000Z
LOCATION:Körperwerk Emmendingen. Platanenweg 7\,  9312 Emmendingen.
SUMMARY:März 2025 | Geistig & körperlich fit bis ins hohe Alter | Und dann in Würde und schmerzfrei sterben dürfen
DESCRIPTION:Liebe Mitglieder der tafelrunde\,  die März 2025 Veranstaltun
 g wird ein Gemeinschaftsprojekt der drei Partner: Jürgen Weber | webergene
 rationen Armin Brucker | Körperwerk Mario Steffens | Palliativnetzwerk Lö
 rrach Das Thema lautet: Geistig &amp; körperlich fit bis ins hohe Alter | 
 Und dann in Würde und schmerzfrei sterben dürfen. Stimmt. Keine einfache 
 Kost.[..]\nhttps://tafelrunde-freiburg.de/Veranstaltungen/maerz-2025-geisti
 g-koerperlich-fit-bis-ins-hohe-alter/
URL:https://tafelrunde-freiburg.de/Veranstaltungen/maerz-2025-geistig-koerperlich-fit-bis-ins-hohe-alter/
END:VEVENT
END:VCALENDAR