BEGIN:VCALENDAR
VERSION:2.0
PRODID:-//eventon.com NONSGML v1.0//EN
CALSCALE:GREGORIAN
METHOD:PUBLISH
BEGIN:VEVENT
UID:69ed4677871f0
DTSTAMP:20260425T225551Z
DTSTART:20250210T173000Z
DTEND:20250210T213000Z
LOCATION:Clubhaus Golfplatz Kirchzarten Krüttweg 1\,  79199 Kirchzarten
SUMMARY:Februar 2025 | Frank York Irrgang
DESCRIPTION:Liebe Mitglieder der tafelrunde\,  die Februar 2025 Veranstalt
 ung gestaltet unser tafelrunde Mitglied Frank York Irrgang.  Er wird uns 
 erläutern\,  was gute Architektur ausmacht. Wie sie unser Leben positiv be
 einflusst. Auch in Freiburg. Wo lässt sich so ein Abend treffender verbrin
 gen\,  wie in einem von Frank entworfenen Projekt? Deshalb treffen wir uns 
 im[..]\nhttps://tafelrunde-freiburg.de/Veranstaltungen/februar-2025-sacker-
 ausgezeichnete-architektur/
URL:https://tafelrunde-freiburg.de/Veranstaltungen/februar-2025-sacker-ausgezeichnete-architektur/
END:VEVENT
END:VCALENDAR