BEGIN:VCALENDAR
VERSION:2.0
PRODID:-//eventon.com NONSGML v1.0//EN
CALSCALE:GREGORIAN
METHOD:PUBLISH
BEGIN:VEVENT
UID:69ed467789850
DTSTAMP:20260425T225551Z
DTSTART:20250120T173000Z
DTEND:20250120T213000Z
LOCATION:Die LOKation\,  Paul-Ehrlich-Straße 13\,  79106 Freiburg
SUMMARY:Januar 2025 | Manuel Fritsch - Spiele Abend
DESCRIPTION:Liebe Mitglieder der tafelrunde\,  die Januar 2025 Veranstaltu
 ng ist mal wieder eine Premiere. Denn wir werden kein &#8222;klassisches&#8
 220;  Treffen abhalten\,  sondern einen Spieleabend genießen. Manuel Frit
 zsch\,  Spiele Redakteur und ehemaliges tafelrunde Mitglied wird uns die Br
 ett Spiele des Jahres der vergangenen Jahre präsentieren. Und uns erläute
 rn\,  welche Kriterien ein Spiel erfüllen[..]\nhttps://tafelrunde-freiburg
 .de/Veranstaltungen/januar-2025-manuel-fritsch-insert-moin/
URL:https://tafelrunde-freiburg.de/Veranstaltungen/januar-2025-manuel-fritsch-insert-moin/
END:VEVENT
END:VCALENDAR